BEGIN:VCALENDAR
VERSION:2.0
PRODID:-//Forge Breakers - ECPv6.15.20//NONSGML v1.0//EN
CALSCALE:GREGORIAN
METHOD:PUBLISH
X-ORIGINAL-URL:https://forgebreakers.uk
X-WR-CALDESC:Events for Forge Breakers
REFRESH-INTERVAL;VALUE=DURATION:PT1H
X-Robots-Tag:noindex
X-PUBLISHED-TTL:PT1H
BEGIN:VTIMEZONE
TZID:UTC
BEGIN:STANDARD
TZOFFSETFROM:+0000
TZOFFSETTO:+0000
TZNAME:UTC
DTSTART:20240101T000000
END:STANDARD
END:VTIMEZONE
BEGIN:VEVENT
DTSTART;VALUE=DATE:20250920
DTEND;VALUE=DATE:20250921
DTSTAMP:20260422T134727
CREATED:20250329T153822Z
LAST-MODIFIED:20250619T131356Z
UID:1862-1758326400-1758412799@forgebreakers.uk
SUMMARY:Back to School Bash
DESCRIPTION:Back to School Bash ’25 is our 3rd NAF tournament. Tickets and rules pack available here – Back to School Bash ’25 – Forge Breakers \nPick up your ticket\, and then join us on Discord – Forge Breakers Discord Server
URL:https://forgebreakers.uk/event/back-to-school-bash/
LOCATION:Bargammons Tavern Board Game Cafe\, 35 Market Place\, Chippenham\, Wiltshire\, SN15 3HT\, United Kingdom
CATEGORIES:Tournament
ATTACH;FMTTYPE=image/png:https://forgebreakers.uk/wp-content/uploads/2025/01/Copilot_20250619_122717.png
END:VEVENT
END:VCALENDAR