BEGIN:VCALENDAR
VERSION:2.0
PRODID:-//Forge Breakers - ECPv6.15.20//NONSGML v1.0//EN
CALSCALE:GREGORIAN
METHOD:PUBLISH
X-WR-CALNAME:Forge Breakers
X-ORIGINAL-URL:https://forgebreakers.uk
X-WR-CALDESC:Events for Forge Breakers
REFRESH-INTERVAL;VALUE=DURATION:PT1H
X-Robots-Tag:noindex
X-PUBLISHED-TTL:PT1H
BEGIN:VTIMEZONE
TZID:Europe/London
BEGIN:DAYLIGHT
TZOFFSETFROM:+0000
TZOFFSETTO:+0100
TZNAME:BST
DTSTART:20240331T010000
END:DAYLIGHT
BEGIN:STANDARD
TZOFFSETFROM:+0100
TZOFFSETTO:+0000
TZNAME:GMT
DTSTART:20241027T010000
END:STANDARD
BEGIN:DAYLIGHT
TZOFFSETFROM:+0000
TZOFFSETTO:+0100
TZNAME:BST
DTSTART:20250330T010000
END:DAYLIGHT
BEGIN:STANDARD
TZOFFSETFROM:+0100
TZOFFSETTO:+0000
TZNAME:GMT
DTSTART:20251026T010000
END:STANDARD
BEGIN:DAYLIGHT
TZOFFSETFROM:+0000
TZOFFSETTO:+0100
TZNAME:BST
DTSTART:20260329T010000
END:DAYLIGHT
BEGIN:STANDARD
TZOFFSETFROM:+0100
TZOFFSETTO:+0000
TZNAME:GMT
DTSTART:20261025T010000
END:STANDARD
BEGIN:DAYLIGHT
TZOFFSETFROM:+0000
TZOFFSETTO:+0100
TZNAME:BST
DTSTART:20270328T010000
END:DAYLIGHT
BEGIN:STANDARD
TZOFFSETFROM:+0100
TZOFFSETTO:+0000
TZNAME:GMT
DTSTART:20271031T010000
END:STANDARD
END:VTIMEZONE
BEGIN:VTIMEZONE
TZID:UTC
BEGIN:STANDARD
TZOFFSETFROM:+0000
TZOFFSETTO:+0000
TZNAME:UTC
DTSTART:20240101T000000
END:STANDARD
END:VTIMEZONE
BEGIN:VEVENT
DTSTART;TZID=Europe/London:20260404T180000
DTEND;TZID=Europe/London:20260404T220000
DTSTAMP:20260420T155001
CREATED:20260319T172810Z
LAST-MODIFIED:20260319T173031Z
UID:5596-1775325600-1775340000@forgebreakers.uk
SUMMARY:The Eggsecutioner’s Invitational: An Easter Themed 6-player Dungeon Bowl Event
DESCRIPTION:🐰 Dungeon Bowl: Easter Frenzy! 🐰\nSix teams. One dungeon. Zero sanity. \nThis easter\, we’re once again running a 6-player Dungeon Bowl extravaganza that’s merrier\, messier\, and more magically unhinged than ever before. Expect the usual teleport mishaps\, treasure hunts\, and explosive traps—but now with an egg basket-load of easter themed special rules that’ll have your players hopping all the way to the casualty box. \nWhether you’re dodging enchanted easter eggs\, bribing vicious bunnies\, or trying to survive the wrath of the Eggsecutioner himself\, one thing’s for sure: this isn’t your grandma’s Dungeon Bowl. \n🐣 Bring your team\, your sense of humour\, and a healthy disrespect for tactical sanity.\n🐰 Costumes encouraged. Sportsmanship optional. Mayhem guaranteed. \nNote: as this event is being held as BGs\, players are expected to cover their own table costs.
URL:https://forgebreakers.uk/event/the-eggsecutioners-invitational-an-easter-themed-6-player-dungeon-bowl-event/
LOCATION:Bargammons Tavern Board Game Cafe\, 35 Market Place\, Chippenham\, Wiltshire\, SN15 3HT\, United Kingdom
CATEGORIES:Dungeon Bowl,Social Events
ATTACH;FMTTYPE=image/jpeg:https://forgebreakers.uk/wp-content/uploads/2026/03/Eggsecutioners-Invitational.jpg
END:VEVENT
BEGIN:VEVENT
DTSTART;TZID=Europe/London:20251213T190000
DTEND;TZID=Europe/London:20251213T210000
DTSTAMP:20260420T155001
CREATED:20250926T073408Z
LAST-MODIFIED:20251114T170142Z
UID:4663-1765652400-1765659600@forgebreakers.uk
SUMMARY:Christmas Party 2025
DESCRIPTION:The festive period gives us another excuse to celebrate our fabulous Blood Bowl community\, and your staff are happy to announce plans for our Forge Breakers 2025 Christmas Party! \nFirst up\, the date – Saturday 13th December. Get it reserved in your diaries! \nAs you can see from the image\, the Christmas Party will involve a general knowledge geeky quiz\, (optional) Secret Santa and then hitting the pub(s) of Chippenham. @Dan1 (BanjoUnchained) will be hosting the Bargammons Geeky Christmas Quiz so lets fill the place with teams of Forge Breakers! Teams can be up to 6 members so don’t delay- get yourselves organised! Quiz tickets can be purchased here.. Christmas Jumpers/attire obviously encouraged. \nFor those taking part in this year’s Secret Santa\, we’ll also do the gift exchange at the party… once the Quiz is over and presents exchanged\, we’ll head out for some festive ales around Chippenham. \nSecret Santa\nLast year’s Secret Santa was a roaring success\, and we’ve been asked to bring it back. As I’ve stated already\, it’s voluntary – there’s absolutely no pressure to get involved. For those who are interested\, please DM BanjoUnchained with your interest by midnight Sunday 16th November. Names will then be assigned\, and participants should use up to £10 to buy that person a gift. There’s no restriction on gifts\, but please endeavour to provide gifts which will be appreciated by the recipient. If it doubt\, ask me via DM and I’ll do my best to suggest some ideas. Gifts will be exchanged anonymously (or not!) at BGs either before or after the Quiz on the 13th. \nNote\, as this event involved participating in the BGs quiz\, there is a small ticket cost associated with the event.
URL:https://forgebreakers.uk/event/christmasparty/
LOCATION:Bargammons Tavern Board Game Cafe\, 35 Market Place\, Chippenham\, Wiltshire\, SN15 3HT\, United Kingdom
CATEGORIES:Social Events
ATTACH;FMTTYPE=image/png:https://forgebreakers.uk/wp-content/uploads/2025/09/ChristmasParty2025_Logo.png
END:VEVENT
BEGIN:VEVENT
DTSTART;TZID=Europe/London:20251206T180000
DTEND;TZID=Europe/London:20251206T230000
DTSTAMP:20260420T155001
CREATED:20250916T162716Z
LAST-MODIFIED:20250916T162716Z
UID:4636-1765044000-1765062000@forgebreakers.uk
SUMMARY:Delving into Santa's Sack II - A Festive Dungeon Bowl Experience
DESCRIPTION:🎄 Dungeon Bowl: Festive Frenzy! 🎄\nSix teams. One dungeon. Zero sanity. \nThis holiday season\, we’re once again cranking the chaos to eleven with a 6-player Dungeon Bowl extravaganza that’s merrier\, messier\, and more magically unhinged than ever before. Expect the usual teleport mishaps\, treasure hunts\, and explosive traps—but now with a sleigh-load of festive special rules that’ll have your players jingling all the way to the casualty box. \nWhether you’re dodging enchanted snowballs\, bribing goblin carolers\, or trying to survive the wrath of Krampus himself\, one thing’s for sure: this isn’t your grandma’s Dungeon Bowl. \n🎁 Bring your team\, your sense of humour\, and a healthy disrespect for tactical sanity.\n🎅 Costumes encouraged. Sportsmanship optional. Mayhem guaranteed. \n  \n  \n 
URL:https://forgebreakers.uk/event/delving-into-santas-sack-ii-a-festive-dungeon-bowl-experience/
LOCATION:Bargammons Tavern Board Game Cafe\, 35 Market Place\, Chippenham\, Wiltshire\, SN15 3HT\, United Kingdom
CATEGORIES:Dungeon Bowl,Social Events
ATTACH;FMTTYPE=image/png:https://forgebreakers.uk/wp-content/uploads/2025/09/Delving.png
END:VEVENT
BEGIN:VEVENT
DTSTART;TZID=Europe/London:20251119T190000
DTEND;TZID=Europe/London:20251119T223000
DTSTAMP:20260420T155001
CREATED:20251027T140900Z
LAST-MODIFIED:20251114T165528Z
UID:4852-1763578800-1763591400@forgebreakers.uk
SUMMARY:FAQ You! A BB2025 Introduction
DESCRIPTION:Welcome to FAQ You! An evening dedicated to the brand new edition of Blood Bowl (BB2025). \nCome down to BGs on Wednesday to: \n\nWorkshop the new rules with other coaches.\nBuild your new models and/or rosters!\n…play a match!\n\nWhilst staff consider the best team rules pack for Forge Breakers Season 4\, we’d like coaches to play matches using one of the following 3 roster setups: \n\nWhat’s on the Season 4 website page.\n1\,100\,000GPs with no extra skills or\,\n1\,000\,000GPs with no extra skills.\n\nTo organise a match\, please use the Exhibition Match Arrangement Channel on Discord. \nIF you’re planning to build your new models\, you’re expected to provide your own glue/tools etc. \nPlease RSVP to let us know you’re attending. Note\, as this event takes place at Bargammons\, the usual table costs apply.
URL:https://forgebreakers.uk/event/faq-you-a-bb2025-introduction/
LOCATION:Bargammons Tavern Board Game Cafe\, 35 Market Place\, Chippenham\, Wiltshire\, SN15 3HT\, United Kingdom
CATEGORIES:Blood Bowl,Social Events,Training Workshops
ATTACH;FMTTYPE=image/png:https://forgebreakers.uk/wp-content/uploads/2025/10/FAQ-You-Logo.png
END:VEVENT
BEGIN:VEVENT
DTSTART;TZID=Europe/London:20251112T183000
DTEND;TZID=Europe/London:20251112T223000
DTSTAMP:20260420T155001
CREATED:20251027T151331Z
LAST-MODIFIED:20251027T224910Z
UID:4871-1762972200-1762986600@forgebreakers.uk
SUMMARY:Dungeon Bowl
DESCRIPTION:Want one last crack at Dungeon Bowl while it’s still compatible with the current edition of Blood Bowl?\nWant one last try at abusing the College of Heavens roster?\nWant to get some Dungeon Bowl practice in before the Season IV Dungeon Bowl league?\nJust want to know what all the fuss is about?\n\nThen come down to Bargammons on the 12th November! Please RSVP to confirm attendance.\n\nJust ask if you need to borrow some minis to make your roster – if you don’t know what the DB rosters look like\, you can make yours here.\n\n\nNote\, as this event takes place at Bargammons\, the usual table costs apply.
URL:https://forgebreakers.uk/event/dungeon-bowl/
LOCATION:Bargammons Tavern Board Game Cafe\, 35 Market Place\, Chippenham\, Wiltshire\, SN15 3HT\, United Kingdom
CATEGORIES:Dungeon Bowl,Social Events
ATTACH;FMTTYPE=image/jpeg:https://forgebreakers.uk/wp-content/uploads/2025/06/cropped-Dungeon-Bowl.jpg
END:VEVENT
BEGIN:VEVENT
DTSTART;TZID=UTC:20250522T180000
DTEND;TZID=UTC:20250522T230000
DTSTAMP:20260420T155001
CREATED:20250329T154145Z
LAST-MODIFIED:20250402T125017Z
UID:1864-1747936800-1747954800@forgebreakers.uk
SUMMARY:Anything but 11s - Social Event
DESCRIPTION:Event details TBC!
URL:https://forgebreakers.uk/event/anything-but-11s-social-event/
LOCATION:Bargammons Tavern Board Game Cafe\, 35 Market Place\, Chippenham\, Wiltshire\, SN15 3HT\, United Kingdom
CATEGORIES:Social Events
ATTACH;FMTTYPE=image/png:https://forgebreakers.uk/wp-content/uploads/2024/11/ForgeBreakers_logo3.png
END:VEVENT
END:VCALENDAR