BEGIN:VCALENDAR
VERSION:2.0
PRODID:-//Forge Breakers - ECPv6.15.20//NONSGML v1.0//EN
CALSCALE:GREGORIAN
METHOD:PUBLISH
X-WR-CALNAME:Forge Breakers
X-ORIGINAL-URL:https://forgebreakers.uk
X-WR-CALDESC:Events for Forge Breakers
REFRESH-INTERVAL;VALUE=DURATION:PT1H
X-Robots-Tag:noindex
X-PUBLISHED-TTL:PT1H
BEGIN:VTIMEZONE
TZID:Europe/London
BEGIN:DAYLIGHT
TZOFFSETFROM:+0000
TZOFFSETTO:+0100
TZNAME:BST
DTSTART:20240331T010000
END:DAYLIGHT
BEGIN:STANDARD
TZOFFSETFROM:+0100
TZOFFSETTO:+0000
TZNAME:GMT
DTSTART:20241027T010000
END:STANDARD
BEGIN:DAYLIGHT
TZOFFSETFROM:+0000
TZOFFSETTO:+0100
TZNAME:BST
DTSTART:20250330T010000
END:DAYLIGHT
BEGIN:STANDARD
TZOFFSETFROM:+0100
TZOFFSETTO:+0000
TZNAME:GMT
DTSTART:20251026T010000
END:STANDARD
BEGIN:DAYLIGHT
TZOFFSETFROM:+0000
TZOFFSETTO:+0100
TZNAME:BST
DTSTART:20260329T010000
END:DAYLIGHT
BEGIN:STANDARD
TZOFFSETFROM:+0100
TZOFFSETTO:+0000
TZNAME:GMT
DTSTART:20261025T010000
END:STANDARD
END:VTIMEZONE
BEGIN:VEVENT
DTSTART;TZID=Europe/London:20251119T190000
DTEND;TZID=Europe/London:20251119T223000
DTSTAMP:20260422T182139
CREATED:20251027T140900Z
LAST-MODIFIED:20251114T165528Z
UID:4852-1763578800-1763591400@forgebreakers.uk
SUMMARY:FAQ You! A BB2025 Introduction
DESCRIPTION:Welcome to FAQ You! An evening dedicated to the brand new edition of Blood Bowl (BB2025). \nCome down to BGs on Wednesday to: \n\nWorkshop the new rules with other coaches.\nBuild your new models and/or rosters!\n…play a match!\n\nWhilst staff consider the best team rules pack for Forge Breakers Season 4\, we’d like coaches to play matches using one of the following 3 roster setups: \n\nWhat’s on the Season 4 website page.\n1\,100\,000GPs with no extra skills or\,\n1\,000\,000GPs with no extra skills.\n\nTo organise a match\, please use the Exhibition Match Arrangement Channel on Discord. \nIF you’re planning to build your new models\, you’re expected to provide your own glue/tools etc. \nPlease RSVP to let us know you’re attending. Note\, as this event takes place at Bargammons\, the usual table costs apply.
URL:https://forgebreakers.uk/event/faq-you-a-bb2025-introduction/
LOCATION:Bargammons Tavern Board Game Cafe\, 35 Market Place\, Chippenham\, Wiltshire\, SN15 3HT\, United Kingdom
CATEGORIES:Blood Bowl,Social Events,Training Workshops
ATTACH;FMTTYPE=image/png:https://forgebreakers.uk/wp-content/uploads/2025/10/FAQ-You-Logo.png
END:VEVENT
END:VCALENDAR