BEGIN:VCALENDAR
VERSION:2.0
PRODID:-//Forge Breakers - ECPv6.15.20//NONSGML v1.0//EN
CALSCALE:GREGORIAN
METHOD:PUBLISH
X-ORIGINAL-URL:https://forgebreakers.uk
X-WR-CALDESC:Events for Forge Breakers
REFRESH-INTERVAL;VALUE=DURATION:PT1H
X-Robots-Tag:noindex
X-PUBLISHED-TTL:PT1H
BEGIN:VTIMEZONE
TZID:Europe/London
BEGIN:DAYLIGHT
TZOFFSETFROM:+0000
TZOFFSETTO:+0100
TZNAME:BST
DTSTART:20240331T010000
END:DAYLIGHT
BEGIN:STANDARD
TZOFFSETFROM:+0100
TZOFFSETTO:+0000
TZNAME:GMT
DTSTART:20241027T010000
END:STANDARD
BEGIN:DAYLIGHT
TZOFFSETFROM:+0000
TZOFFSETTO:+0100
TZNAME:BST
DTSTART:20250330T010000
END:DAYLIGHT
BEGIN:STANDARD
TZOFFSETFROM:+0100
TZOFFSETTO:+0000
TZNAME:GMT
DTSTART:20251026T010000
END:STANDARD
BEGIN:DAYLIGHT
TZOFFSETFROM:+0000
TZOFFSETTO:+0100
TZNAME:BST
DTSTART:20260329T010000
END:DAYLIGHT
BEGIN:STANDARD
TZOFFSETFROM:+0100
TZOFFSETTO:+0000
TZNAME:GMT
DTSTART:20261025T010000
END:STANDARD
END:VTIMEZONE
BEGIN:VEVENT
DTSTART;TZID=Europe/London:20251206T180000
DTEND;TZID=Europe/London:20251206T230000
DTSTAMP:20260422T195346
CREATED:20250916T162716Z
LAST-MODIFIED:20250916T162716Z
UID:4636-1765044000-1765062000@forgebreakers.uk
SUMMARY:Delving into Santa's Sack II - A Festive Dungeon Bowl Experience
DESCRIPTION:🎄 Dungeon Bowl: Festive Frenzy! 🎄\nSix teams. One dungeon. Zero sanity. \nThis holiday season\, we’re once again cranking the chaos to eleven with a 6-player Dungeon Bowl extravaganza that’s merrier\, messier\, and more magically unhinged than ever before. Expect the usual teleport mishaps\, treasure hunts\, and explosive traps—but now with a sleigh-load of festive special rules that’ll have your players jingling all the way to the casualty box. \nWhether you’re dodging enchanted snowballs\, bribing goblin carolers\, or trying to survive the wrath of Krampus himself\, one thing’s for sure: this isn’t your grandma’s Dungeon Bowl. \n🎁 Bring your team\, your sense of humour\, and a healthy disrespect for tactical sanity.\n🎅 Costumes encouraged. Sportsmanship optional. Mayhem guaranteed. \n  \n  \n 
URL:https://forgebreakers.uk/event/delving-into-santas-sack-ii-a-festive-dungeon-bowl-experience/
LOCATION:Bargammons Tavern Board Game Cafe\, 35 Market Place\, Chippenham\, Wiltshire\, SN15 3HT\, United Kingdom
CATEGORIES:Dungeon Bowl,Social Events
ATTACH;FMTTYPE=image/png:https://forgebreakers.uk/wp-content/uploads/2025/09/Delving.png
END:VEVENT
END:VCALENDAR